BEGIN:VCALENDAR
VERSION:2.0
PRODID:-//Institute of Labor Economics//Zope//EN
METHOD:PUBLISH
CALSCALE:GREGORIAN
BEGIN:VTIMEZONE
TZID:Europe/Berlin
BEGIN:DAYLIGHT
TZOFFSETFROM:+0100
RRULE:FREQ=YEARLY;BYMONTH=3;BYDAY=-1SU
DTSTART:19810329T020000
TZNAME:CEST
TZOFFSETTO:+0200
END:DAYLIGHT
BEGIN:STANDARD
TZOFFSETFROM:+0200
RRULE:FREQ=YEARLY;BYMONTH=10;BYDAY=-1SU
DTSTART:19961027T030000
TZNAME:CET
TZOFFSETTO:+0100
END:STANDARD
END:VTIMEZONE
BEGIN:VEVENT
UID:None
LOCATION;CHARSET=UTF-8:ONLINE
DESCRIPTION:3rd IZA/OECD Workshop: New Perspectives on the Minimum Wage \nStarting 14:00 CET \n \nJoin Zoom Meeting \nhttps://iza-org.zoom.us/j/88199448940?pwd=mGTOsuMS35BIlakoB8yhbqUrNlK8zH.1  \n \nMeeting ID: 881 9944 8940 \nPasscode: 058374 \n
SEQUENCE:1
X-APPLE-TRAVEL-ADVISORY-BEHAVIOR:AUTOMATIC
SUMMARY:IZA Conference: 3rd IZA/OECD Workshop: New Perspectives on the Minimum Wage

DTSTART;TZID=Europe/Berlin:20241121T140000
DTEND;TZID=Europe/Berlin:20241121T170000
END:VEVENT
END:VCALENDAR
